BEGIN:VCALENDAR
VERSION:2.0
PRODID:-//eventon.com NONSGML v1.0//EN
CALSCALE:GREGORIAN
METHOD:PUBLISH
BEGIN:VEVENT
UID:69e8dcef2511e
DTSTAMP:20260422T143631Z
DTSTART:20260430T020000Z
DTEND:20260501T190000Z
LOCATION:Westin Whistler Resort &amp; Spa 4090 Whistler Way
SUMMARY:2026 Annual Conference & AGM
DESCRIPTION:THE 2025 ANNUAL CONFERENCE &amp; AGM WILL BE HELD FROM APRIL 29
 th to MAY 1st\,  2025\,  AT THE WESTIN WHISTLER RESORT\nhttps://www.lmlga.c
 a/events/2026-annual-conference-agm-copy/
URL:https://www.lmlga.ca/events/2026-annual-conference-agm-copy/
END:VEVENT
END:VCALENDAR